BEGIN:VCALENDAR
VERSION:2.0
PRODID:-//ChamberMaster//Event Calendar 2.0//EN
METHOD:PUBLISH
X-PUBLISHED-TTL:P3D
REFRESH-INTERVAL:P3D
CALSCALE:GREGORIAN
BEGIN:VEVENT
DTSTART:20130430T230000Z
DTEND:20130430T230000Z
X-MICROSOFT-CDO-ALLDAYEVENT:FALSE
SUMMARY:2013 Networking Night Out
DESCRIPTION:You must be pre-registered!\n\n\n\n50% of all proceeds will be donated to Turn Tulsa Pink!
X-ALT-DESC;FMTTYPE=text/html:You must be pre-registered!<br />\n<br />\n50% of all proceeds will be donated to Turn Tulsa Pink!
LOCATION:Reaissance Hotel 6808 South 107th East Avenue Tulsa\, OK 74133
UID:e.1611.629
SEQUENCE:3
DTSTAMP:20260421T140702Z
URL:https://portal.bixbychamber.com/events/details/2013-networking-night-out-04-30-2013-629
END:VEVENT

END:VCALENDAR
