BEGIN:VCALENDAR
VERSION:2.0
PRODID:-//ChamberMaster//Event Calendar 2.0//EN
METHOD:PUBLISH
X-PUBLISHED-TTL:P3D
REFRESH-INTERVAL:P3D
CALSCALE:GREGORIAN
BEGIN:VEVENT
DTSTART:20130609T160000Z
DTEND:20130609T190000Z
X-MICROSOFT-CDO-ALLDAYEVENT:FALSE
SUMMARY:2013 Neighbors Helping Neighbors
DESCRIPTION:Let's all join together to help our neighbors devastated by the May 20th\, Moore\, OK tornado. 50% of sales will go to relief efforts.
X-ALT-DESC;FMTTYPE=text/html:Let&#39\;s all join together to help our neighbors devastated by the May 20th\, Moore\, OK tornado. 50% of sales will go to relief efforts.
LOCATION:Qdoba Mexican Grill
UID:e.1611.650
SEQUENCE:3
DTSTAMP:20260421T130500Z
URL:https://portal.bixbychamber.com/events/details/2013-neighbors-helping-neighbors-06-09-2013-650
END:VEVENT

END:VCALENDAR
