BEGIN:VCALENDAR
VERSION:2.0
PRODID:-//ChamberMaster//Event Calendar 2.0//EN
METHOD:PUBLISH
X-PUBLISHED-TTL:P3D
REFRESH-INTERVAL:P3D
CALSCALE:GREGORIAN
BEGIN:VEVENT
DTSTART:20130724T190000Z
DTEND:20130724T203000Z
X-MICROSOFT-CDO-ALLDAYEVENT:FALSE
SUMMARY:2013 Neck and Back Pain: A Physician?s Perspective
DESCRIPTION:Free Program! Topics to be discussed:  1.  Identify different causes of neck and back pain 2.  Workup of neck and back pain including mri's\, xrays\, bone scans\,   etc. 3.  Treatment options\, non-surgical and surgical Seating is limited\, so please call us at (918) 551-7300 or email at chaxton@osteopathicfounders.org to reserve your seat for this event.
X-ALT-DESC;FMTTYPE=text/html:Free Program! Topics to be discussed:&nbsp\; 1. &nbsp\;Identify different causes of neck and back pain 2. &nbsp\;Workup of neck and back pain including mri&#39\;s\, xrays\, bone scans\, &nbsp\; etc. 3. &nbsp\;Treatment options\, non-surgical and surgical Seating is limited\, so please call us at (918) 551-7300 or email at chaxton@osteopathicfounders.org to reserve your seat for this event.
LOCATION:Osteopathic Founders Foundation Conference Room? 8801 South Yale\, Suite 400 Tulsa\, OK 74137
UID:e.1611.664
SEQUENCE:3
DTSTAMP:20260421T103613Z
URL:https://portal.bixbychamber.com/events/details/2013-neck-and-back-pain-a-physician-s-perspective-07-24-2013-664
END:VEVENT

END:VCALENDAR
