BEGIN:VCALENDAR
VERSION:2.0
PRODID:-//ChamberMaster//Event Calendar 2.0//EN
METHOD:PUBLISH
X-PUBLISHED-TTL:P3D
REFRESH-INTERVAL:P3D
CALSCALE:GREGORIAN
BEGIN:VEVENT
DTSTART:20131022T230000Z
DTEND:20131023T010000Z
X-MICROSOFT-CDO-ALLDAYEVENT:FALSE
SUMMARY:2013 MYB Mixer
DESCRIPTION:MYB Services is like eHarmony for businesses. We've taken prospecting to the next level. Come to MYB Mixer to connect with ambitious business leaders that are looking to increase their network and net-worth.\n\n\n\nJoin us Tuesday\, October 22\, 2013\, at the Kennedy Mansion from 6-8 PM. The event is located at 506 W Fairview St\, Tulsa\, Oklahoma 74106.\n\n\n\nEnjoy the inviting atmosphere\, great tasting appetizers\, and fun interactive networking games and activities for $20 a person or $30 for two. Please go to www.MYBMIxer.eventbrite.com to get your ticket today.\n\n\n\nYou may also email me at dorea@gokalys.com for more information.\n\n\n\nYou may also visit www.MYBServices.com and go to Events to find out who is going to this month's mixer.\n\n\n\n\n\nLet's get ready to MIX!
X-ALT-DESC;FMTTYPE=text/html:<font color="#000000" face="verdana\, sans-serif" size="2">MYB Services is like eHarmony for businesses. We&#39\;ve taken prospecting to the next level. Come to MYB Mixer to connect with ambitious business leaders that are looking to increase their network and net-worth.<br />\n<br />\nJoin us Tuesday\, October 22\, 2013\, at the Kennedy Mansion from 6-8 PM. The event is located at 506 W Fairview St\, Tulsa\, Oklahoma 74106.<br />\n<br />\nEnjoy the inviting atmosphere\, great tasting appetizers\, and fun interactive networking games and activities for $20 a person or $30 for two. Please go to www.MYBMIxer.eventbrite.com to get your ticket today.<br />\n<br />\nYou may also email me at dorea@gokalys.com for more information.<br />\n<br />\nYou may also visit www.MYBServices.com and go to Events to find out who is going to this month&#39\;s mixer.<br />\n<br />\n<br />\nLet&#39\;s get ready to MIX!&nbsp\;</font>
LOCATION:Kennedy Mansion B&B
UID:e.1611.1241
SEQUENCE:3
DTSTAMP:20260421T063321Z
URL:https://portal.bixbychamber.com/events/details/2013-myb-mixer-10-22-2013-1241
END:VEVENT

END:VCALENDAR
