BEGIN:VCALENDAR
VERSION:2.0
PRODID:-//ChamberMaster//Event Calendar 2.0//EN
METHOD:PUBLISH
X-PUBLISHED-TTL:P3D
REFRESH-INTERVAL:P3D
CALSCALE:GREGORIAN
BEGIN:VEVENT
DTSTART:20131025T230000Z
DTEND:20131026T020000Z
X-MICROSOFT-CDO-ALLDAYEVENT:FALSE
SUMMARY:2013 Mummy and Son Halloween Dance
DESCRIPTION:A Halloween dance for mother's and their sons with costume contests and prizes. Some food and punch will be provided.
X-ALT-DESC;FMTTYPE=text/html:A Halloween dance for mother&#39\;s and their sons with costume contests and prizes. Some food and punch will be provided.
LOCATION:Bixby Community Center\, 211 N. Cabaniss
UID:e.1611.684
SEQUENCE:3
DTSTAMP:20260421T063509Z
URL:https://portal.bixbychamber.com/events/details/2013-mummy-and-son-halloween-dance-10-25-2013-684
END:VEVENT

END:VCALENDAR
