BEGIN:VCALENDAR
VERSION:2.0
PRODID:-//ChamberMaster//Event Calendar 2.0//EN
METHOD:PUBLISH
X-PUBLISHED-TTL:P3D
REFRESH-INTERVAL:P3D
CALSCALE:GREGORIAN
BEGIN:VEVENT
DTSTART:20131022T164500Z
DTEND:20131022T180000Z
X-MICROSOFT-CDO-ALLDAYEVENT:FALSE
SUMMARY:2013 Movers & Shakers Networking
DESCRIPTION:Movers & Shakers Business Networking Club meets every Tuesday to exchange business and referrals. Bring business cards. Meet with 15 to 25 attendees every week.
X-ALT-DESC;FMTTYPE=text/html:Movers &amp\; Shakers Business Networking Club meets every Tuesday to exchange business and referrals. Bring business cards. Meet with 15 to 25 attendees every week.
LOCATION:Siegi's Restaurant\, 81st & Sheridan\, Tulsa
UID:e.1611.1237
SEQUENCE:3
DTSTAMP:20260421T074525Z
URL:https://portal.bixbychamber.com/events/details/2013-movers-shakers-networking-10-22-2013-1237
END:VEVENT

END:VCALENDAR
