BEGIN:VCALENDAR
VERSION:2.0
PRODID:-//ChamberMaster//Event Calendar 2.0//EN
METHOD:PUBLISH
X-PUBLISHED-TTL:P3D
REFRESH-INTERVAL:P3D
CALSCALE:GREGORIAN
BEGIN:VEVENT
DTSTART:20130330T233000Z
DTEND:20130331T010000Z
X-MICROSOFT-CDO-ALLDAYEVENT:FALSE
SUMMARY:2013 Miss Bixby Pageant
DESCRIPTION:
X-ALT-DESC;FMTTYPE=text/html:
LOCATION:Bixby High School Auditorium
UID:e.1611.618
SEQUENCE:3
DTSTAMP:20260421T163245Z
URL:https://portal.bixbychamber.com/events/details/2013-miss-bixby-pageant-03-30-2013-618
END:VEVENT

END:VCALENDAR
