BEGIN:VCALENDAR
VERSION:2.0
PRODID:-//ChamberMaster//Event Calendar 2.0//EN
METHOD:PUBLISH
X-PUBLISHED-TTL:P3D
REFRESH-INTERVAL:P3D
CALSCALE:GREGORIAN
BEGIN:VEVENT
DTSTART:20130131T223000Z
DTEND:20130131T230000Z
X-MICROSOFT-CDO-ALLDAYEVENT:FALSE
SUMMARY:2013 Mecca Coffee Ribbon Cutting
DESCRIPTION:
X-ALT-DESC;FMTTYPE=text/html:
LOCATION:10114 S. Sheridan Rd 74133
UID:e.1611.299
SEQUENCE:3
DTSTAMP:20260421T180715Z
URL:https://portal.bixbychamber.com/events/details/2013-mecca-coffee-ribbon-cutting-01-31-2013-299
END:VEVENT

END:VCALENDAR
