BEGIN:VCALENDAR
VERSION:2.0
PRODID:-//ChamberMaster//Event Calendar 2.0//EN
METHOD:PUBLISH
X-PUBLISHED-TTL:P3D
REFRESH-INTERVAL:P3D
CALSCALE:GREGORIAN
BEGIN:VEVENT
DTSTART:20140129T173000Z
DTEND:20140129T190000Z
X-MICROSOFT-CDO-ALLDAYEVENT:FALSE
SUMMARY:2013 Mayor's State of the City
DESCRIPTION:
X-ALT-DESC;FMTTYPE=text/html:
LOCATION:SpiritBank Event Center North Ballroom 10441 South Regal Boulevard Tulsa\, OK 74133
UID:e.1611.302
SEQUENCE:3
DTSTAMP:20260421T023622Z
URL:https://portal.bixbychamber.com/events/details/2013-mayor-s-state-of-the-city-01-29-2014-302
END:VEVENT

END:VCALENDAR
