BEGIN:VCALENDAR
VERSION:2.0
PRODID:-//ChamberMaster//Event Calendar 2.0//EN
METHOD:PUBLISH
X-PUBLISHED-TTL:P3D
REFRESH-INTERVAL:P3D
CALSCALE:GREGORIAN
BEGIN:VEVENT
DTSTART:20130517T163000Z
DTEND:20130517T180000Z
X-MICROSOFT-CDO-ALLDAYEVENT:FALSE
SUMMARY:2013 May Learn Over Lunch
DESCRIPTION:ATTENDEES CAN BRING RESUMES FOR EVALUATION PRIVATELY AT NO COST. \n\n  \n\nPresentation on: Referrals\, Interview Candidate\, Review Resume\, Interview with Resume Writer\, Professional Resume. \n\n \n\nTime for Interactive Questions
X-ALT-DESC;FMTTYPE=text/html:&nbsp\;ATTENDEES CAN BRING RESUMES FOR EVALUATION PRIVATELY AT NO COST.&nbsp\;<br />\n&nbsp\;&nbsp\;<br />\nPresentation on:&nbsp\;Referrals\,&nbsp\;Interview Candidate\, Review Resume\,&nbsp\;Interview with Resume Writer\,&nbsp\;Professional Resume.&nbsp\;<br />\n&nbsp\;<br />\nTime for Interactive Questions<br />\n
LOCATION:
UID:e.1611.267
SEQUENCE:3
DTSTAMP:20260421T130003Z
URL:https://portal.bixbychamber.com/events/details/2013-may-learn-over-lunch-05-17-2013-267
END:VEVENT

END:VCALENDAR
