BEGIN:VCALENDAR
VERSION:2.0
PRODID:-//ChamberMaster//Event Calendar 2.0//EN
METHOD:PUBLISH
X-PUBLISHED-TTL:P3D
REFRESH-INTERVAL:P3D
CALSCALE:GREGORIAN
BEGIN:VEVENT
DTSTART:20130522T124500Z
DTEND:20130522T140000Z
X-MICROSOFT-CDO-ALLDAYEVENT:FALSE
SUMMARY:2013 May Connect Over Breakfast
DESCRIPTION:The Bixby Metro Chamber would like to assist you in developing professional and personal relationships with other businesses and associates in the Bixby community. Networkers will meet for breakfast in a small group with other Chamber Partners and community leaders to develop personal relationships and promote their businesses within the group.
X-ALT-DESC;FMTTYPE=text/html:The Bixby Metro Chamber would like to assist you in developing professional and personal relationships with other businesses and associates in the Bixby community. Networkers&nbsp\;will meet for breakfast in a small group with other Chamber Partners and community leaders to develop personal relationships&nbsp\;and promote their businesses within the group.&nbsp\;
LOCATION:
UID:e.1611.268
SEQUENCE:3
DTSTAMP:20260421T130039Z
URL:https://portal.bixbychamber.com/events/details/2013-may-connect-over-breakfast-05-22-2013-268
END:VEVENT

END:VCALENDAR
