BEGIN:VCALENDAR
VERSION:2.0
PRODID:-//ChamberMaster//Event Calendar 2.0//EN
METHOD:PUBLISH
X-PUBLISHED-TTL:P3D
REFRESH-INTERVAL:P3D
CALSCALE:GREGORIAN
BEGIN:VEVENT
DTSTART:20130315T163000Z
DTEND:20130315T180000Z
X-MICROSOFT-CDO-ALLDAYEVENT:FALSE
SUMMARY:2013 March Learn Over Lunch
DESCRIPTION:Business Insurance - What Is Truly Needed \n\nDoes my business really need Commercial Liability Insurance? Workers Compensation? Commercial Auto Insurance? Chip Seay from Hometown Insurance Agency will be helping us understand those policies and determine what policies we actually really need.   \n\n \n\nHealth Care Reform Law - Overview for Small Employers \n\nWhat does the Health Care Reform law do and how does it affect my business? Susan McGinnis from BenEx Insurance Agency will be informing us on all that we need to know about the Health Care Reform Law.\n\n\n\nFacilitators: Chip Seay\, Hometown Insurance Agency\n\n                       Susan McGinnis\, BenEx Insurance Agency
X-ALT-DESC;FMTTYPE=text/html:<span style="color:#0070b6\;"><span style="font-family:arial\,sans-serif\;"><span style="font-size:16.0pt\;">Business Insurance - What Is Truly Needed&nbsp\;</span></span></span><br />\n<span style="color:#323232\;"><span style="font-family:arial\,sans-serif\;"><span style="font-size:9.0pt\;">Does my business really need Commercial Liability Insurance? Workers Compensation? Commercial Auto Insurance? Chip Seay from Hometown Insurance Agency will be helping us understand those policies and determine what policies we actually really need. &nbsp\;&nbsp\;</span></span></span><br />\n&nbsp\;<br />\n<span style="color:#0070b6\;"><span style="font-family:arial\,sans-serif\;"><span style="font-size:16.0pt\;">Health Care Reform Law - Overview for Small Employers&nbsp\;</span></span></span><br />\n<span style="color:#323232\;"><span style="font-family:arial\,sans-serif\;"><span style="font-size:9.0pt\;">What does the Health Care Reform law do and how does it affect my business? Susan McGinnis from BenEx Insurance Agency will be informing us on all that we need to know about the Health Care Reform Law.</span></span></span><br />\n<br />\n<span style="color:#323232\;"><span style="font-family:arial\,sans-serif\;"><span style="font-size:9.0pt\;"><strong>Facilitators:</strong> Chip Seay\, Hometown Insurance Agency</span></span></span><br />\n<span style="color:#323232\;"><span style="font-family:arial\,sans-serif\;"><span style="font-size:9.0pt\;">&nbsp\; &nbsp\;</span></span></span>&nbsp\; &nbsp\;&nbsp\;&nbsp\;&nbsp\;&nbsp\;&nbsp\;&nbsp\;&nbsp\;&nbsp\;&nbsp\;&nbsp\;&nbsp\;&nbsp\;&nbsp\;&nbsp\;&nbsp\;&nbsp\;&nbsp\;<span style="color:#323232\;"><span style="font-family:arial\,sans-serif\;"><span style="font-size:9.0pt\;">Susan McGinnis\, BenEx Insurance Agency</span></span></span><br />\n
LOCATION:
UID:e.1611.260
SEQUENCE:3
DTSTAMP:20260421T152716Z
URL:https://portal.bixbychamber.com/events/details/2013-march-learn-over-lunch-03-15-2013-260
END:VEVENT

END:VCALENDAR
