BEGIN:VCALENDAR
VERSION:2.0
PRODID:-//ChamberMaster//Event Calendar 2.0//EN
METHOD:PUBLISH
X-PUBLISHED-TTL:P3D
REFRESH-INTERVAL:P3D
CALSCALE:GREGORIAN
BEGIN:VEVENT
DTSTART:20130307T233000Z
DTEND:20130308T010000Z
X-MICROSOFT-CDO-ALLDAYEVENT:FALSE
SUMMARY:2013 March After Hours
DESCRIPTION:
X-ALT-DESC;FMTTYPE=text/html:
LOCATION:10810 E 45th St Tulsa\, OK 74146
UID:e.1611.254
SEQUENCE:3
DTSTAMP:20260421T162923Z
URL:https://portal.bixbychamber.com/events/details/2013-march-after-hours-03-07-2013-254
END:VEVENT

END:VCALENDAR
