BEGIN:VCALENDAR
VERSION:2.0
PRODID:-//ChamberMaster//Event Calendar 2.0//EN
METHOD:PUBLISH
X-PUBLISHED-TTL:P3D
REFRESH-INTERVAL:P3D
CALSCALE:GREGORIAN
BEGIN:VEVENT
DTSTART:20130525T180000Z
DTEND:20130525T220000Z
X-MICROSOFT-CDO-ALLDAYEVENT:FALSE
SUMMARY:2013 Legends Charity Kids Bike Event
DESCRIPTION:"When your health goes\, so does everything else - START TODAY & stay healthy"\n\nFree Kid's Bike Inspections * Pizza * Beverages
X-ALT-DESC;FMTTYPE=text/html:<span style="font-size:12px\;"><span style="font-family: arial\;">&quot\;When your health goes\, so does everything else - START TODAY &amp\; stay healthy&quot\;<br />\nFree Kid&#39\;s Bike Inspections * Pizza * Beverages</span></span>
LOCATION:Legends Bicycles & Accessories 10846 South Memorial Ave Tulsa\, OK 74133
UID:e.1611.643
SEQUENCE:3
DTSTAMP:20260421T130654Z
URL:https://portal.bixbychamber.com/events/details/2013-legends-charity-kids-bike-event-05-25-2013-643
END:VEVENT

END:VCALENDAR
