BEGIN:VCALENDAR
VERSION:2.0
PRODID:-//ChamberMaster//Event Calendar 2.0//EN
METHOD:PUBLISH
X-PUBLISHED-TTL:P3D
REFRESH-INTERVAL:P3D
CALSCALE:GREGORIAN
BEGIN:VEVENT
DTSTART:20130611T130000Z
DTEND:20130611T230000Z
X-MICROSOFT-CDO-ALLDAYEVENT:FALSE
SUMMARY:2013 Kid's Day
DESCRIPTION:Great opportunity to gets your child's spine checked!\n\n\n\nAll children 12 & under will receive an exam and consultation at no charge.\n\n\n\nChiropractic can help: stomach\, teething\, colic\, headaches\, bed wetting\, attitude\,leg cramps\, ear aches\, colds\, trauma\, & adaptation to growth
X-ALT-DESC;FMTTYPE=text/html:<span itemprop="description"><span class="fsl">Great opportunity to gets your child&#39\;s spine checked!<br />\n<br />\nAll children 12 &amp\; under will receive an exam and consultation at no charge.<br />\n<br />\nChiropractic can help: stomach\, teething\, colic\, headaches\, bed wetting\, attitude\,leg cramps\, ear aches\, colds\, trauma\, &amp\; adaptation to growth</span></span>
LOCATION:Gallagher Wellness Centre 8988-B S Sheridan Rd. Tulsa\, OK 74133
UID:e.1611.649
SEQUENCE:3
DTSTAMP:20260421T124817Z
URL:https://portal.bixbychamber.com/events/details/2013-kid-s-day-06-11-2013-649
END:VEVENT

END:VCALENDAR
