BEGIN:VCALENDAR
VERSION:2.0
PRODID:-//ChamberMaster//Event Calendar 2.0//EN
METHOD:PUBLISH
X-PUBLISHED-TTL:P3D
REFRESH-INTERVAL:P3D
CALSCALE:GREGORIAN
BEGIN:VEVENT
DTSTART:20130606T223000Z
DTEND:20130607T000000Z
X-MICROSOFT-CDO-ALLDAYEVENT:FALSE
SUMMARY:2013 June After Hours
DESCRIPTION:A very relaxed and casual networking event that gives the highlighted business a great opportunity to promote your products and services.\n\n\n\nDr. Skaggs will be giving away two pairs of Ray-Ban sunglasses.\n\n\n\nCatering by Khori Ross Catering
X-ALT-DESC;FMTTYPE=text/html:A very relaxed and casual networking event that gives the highlighted&nbsp\;business a great opportunity to promote your products and services.<br />\n<br />\nDr. Skaggs will be giving away two pairs of Ray-Ban sunglasses.<br />\n<br />\nCatering by Khori Ross Catering
LOCATION:10920 S Memorial Dr Tulsa\, OK 74133
UID:e.1611.308
SEQUENCE:3
DTSTAMP:20260421T114532Z
URL:https://portal.bixbychamber.com/events/details/2013-june-after-hours-06-06-2013-308
END:VEVENT

END:VCALENDAR
