BEGIN:VCALENDAR
VERSION:2.0
PRODID:-//ChamberMaster//Event Calendar 2.0//EN
METHOD:PUBLISH
X-PUBLISHED-TTL:P3D
REFRESH-INTERVAL:P3D
CALSCALE:GREGORIAN
BEGIN:VEVENT
DTSTART:20130717T124500Z
DTEND:20130717T140000Z
X-MICROSOFT-CDO-ALLDAYEVENT:FALSE
SUMMARY:2013 July Breakfast with the Board
DESCRIPTION:The Bixby Metro Chamber is comprised of some of the most influential individuals in Bixby and South Tulsa area. Enjoy Breakfast while visiting and hearing from our BMC board.
X-ALT-DESC;FMTTYPE=text/html:The Bixby Metro Chamber is comprised of some of the most influential&nbsp\;individuals in Bixby and South Tulsa area. Enjoy Breakfast while visiting and hearing from our BMC board.&nbsp\;
LOCATION:Trimmons by TImmons Event Center 1 West Dawes Bixby\, OK 74008
UID:e.1611.278
SEQUENCE:3
DTSTAMP:20260421T103210Z
URL:https://portal.bixbychamber.com/events/details/2013-july-breakfast-with-the-board-07-17-2013-278
END:VEVENT

END:VCALENDAR
