BEGIN:VCALENDAR
VERSION:2.0
PRODID:-//ChamberMaster//Event Calendar 2.0//EN
METHOD:PUBLISH
X-PUBLISHED-TTL:P3D
REFRESH-INTERVAL:P3D
CALSCALE:GREGORIAN
BEGIN:VEVENT
DTSTART:20130718T223000Z
DTEND:20130719T000000Z
X-MICROSOFT-CDO-ALLDAYEVENT:FALSE
SUMMARY:2013 July After Hours
DESCRIPTION:
X-ALT-DESC;FMTTYPE=text/html:
LOCATION:Hine Dental 12345 S Memorial Dr Bixby\, OK 74008
UID:e.1611.309
SEQUENCE:3
DTSTAMP:20260421T103021Z
URL:https://portal.bixbychamber.com/events/details/2013-july-after-hours-07-18-2013-309
END:VEVENT

END:VCALENDAR
