BEGIN:VCALENDAR
VERSION:2.0
PRODID:-//ChamberMaster//Event Calendar 2.0//EN
METHOD:PUBLISH
X-PUBLISHED-TTL:P3D
REFRESH-INTERVAL:P3D
CALSCALE:GREGORIAN
BEGIN:VEVENT
DTSTART:20130504T230000Z
DTEND:20130505T020000Z
X-MICROSOFT-CDO-ALLDAYEVENT:FALSE
SUMMARY:2013 Jr. Olympic Boxing Tournament
DESCRIPTION:
X-ALT-DESC;FMTTYPE=text/html:
LOCATION:Bixby Community Center\, 211 N. Cabaniss Ave Bixby
UID:e.1611.622
SEQUENCE:3
DTSTAMP:20260421T130501Z
URL:https://portal.bixbychamber.com/events/details/2013-jr-olympic-boxing-tournament-05-04-2013-622
END:VEVENT

END:VCALENDAR
