BEGIN:VCALENDAR
VERSION:2.0
PRODID:-//ChamberMaster//Event Calendar 2.0//EN
METHOD:PUBLISH
X-PUBLISHED-TTL:P3D
REFRESH-INTERVAL:P3D
CALSCALE:GREGORIAN
BEGIN:VEVENT
DTSTART:20130907T150000Z
DTEND:20130907T210000Z
X-MICROSOFT-CDO-ALLDAYEVENT:FALSE
SUMMARY:2013 Jenks Optimist Club Dodgeball Tournament
DESCRIPTION:$50 per team\, up to 8 person team\n\nRegistration deadline September 5\, 2013\n\nFor more information\, contact US AT\n\njenksoptimistCLUB@gmail.com.
X-ALT-DESC;FMTTYPE=text/html:<div>$50 per team\, up to 8 person team</div>\n\n<div>Registration deadline September 5\, 2013</div>\n\n<div>For more information\, contact US AT</div>\n\n<div>jenksoptimistCLUB@gmail.com.</div>\n
LOCATION:South County Recreation Center 138th St. South and Peoria/Elm
UID:e.1611.688
SEQUENCE:3
DTSTAMP:20260421T074950Z
URL:https://portal.bixbychamber.com/events/details/2013-jenks-optimist-club-dodgeball-tournament-09-07-2013-688
END:VEVENT

END:VCALENDAR
