BEGIN:VCALENDAR
VERSION:2.0
PRODID:-//ChamberMaster//Event Calendar 2.0//EN
METHOD:PUBLISH
X-PUBLISHED-TTL:P3D
REFRESH-INTERVAL:P3D
CALSCALE:GREGORIAN
BEGIN:VEVENT
DTSTART:20130118T170000Z
DTEND:20130118T190000Z
X-MICROSOFT-CDO-ALLDAYEVENT:FALSE
SUMMARY:2013 January Learn Over Lunch
DESCRIPTION:Learn Over Lunch educational program\, partners will mentor other partners on important business skills including personal and professional development\, educational growth and the latest trends and technology. Join us for lunch and take some time out of your day to learn from an expert.
X-ALT-DESC;FMTTYPE=text/html:<p>\n	<em><em>Learn Over Lunch educational program\, partners will mentor other partners on important business skills including personal and professional development\, educational growth and the latest trends and technology. Join us for lunch and take some time out of your day to learn from an expert</em>.</em><br />\n	&nbsp\;</p>\n
LOCATION:Bixby Metro Chamber of Commerce Conference Room 10441 South Regal Boulevard\, Suite 104
UID:e.1611.247
SEQUENCE:3
DTSTAMP:20260421T191320Z
URL:https://portal.bixbychamber.com/events/details/2013-january-learn-over-lunch-01-18-2013-247
END:VEVENT

END:VCALENDAR
