BEGIN:VCALENDAR
VERSION:2.0
PRODID:-//ChamberMaster//Event Calendar 2.0//EN
METHOD:PUBLISH
X-PUBLISHED-TTL:P3D
REFRESH-INTERVAL:P3D
CALSCALE:GREGORIAN
BEGIN:VEVENT
DTSTART:20130308T140000Z
DTEND:20130308T210000Z
X-MICROSOFT-CDO-ALLDAYEVENT:FALSE
SUMMARY:2013 Increasing Reading Comprehension Through Differentiated Instruction
DESCRIPTION:Featuring keynote speaker\, Dr. Linda B Gambrell
X-ALT-DESC;FMTTYPE=text/html:Featuring keynote speaker\, Dr. Linda B Gambrell&nbsp\;
LOCATION:Northeastern State University 3100 E New Orleans St Broken Arrow\, OK 74014
UID:e.1611.602
SEQUENCE:3
DTSTAMP:20260421T152158Z
URL:https://portal.bixbychamber.com/events/details/2013-increasing-reading-comprehension-through-differentiated-instruction-03-08-2013-602
END:VEVENT

END:VCALENDAR
