BEGIN:VCALENDAR
VERSION:2.0
PRODID:-//ChamberMaster//Event Calendar 2.0//EN
METHOD:PUBLISH
X-PUBLISHED-TTL:P3D
REFRESH-INTERVAL:P3D
CALSCALE:GREGORIAN
BEGIN:VEVENT
DTSTART:20131026T170000Z
DTEND:20131026T170000Z
X-MICROSOFT-CDO-ALLDAYEVENT:FALSE
SUMMARY:2013 Horizon Heroes Fall Festival
DESCRIPTION:Horizon Animal Hospital and Horizon Heroes Fall Festival. We will have games\, bouncy house\, fall pictures with our pig. Animal adoptions\, food by Raising Cane\, silent Auction.  Please come in costume and bring your kids and have a great time
X-ALT-DESC;FMTTYPE=text/html:Horizon Animal Hospital and Horizon Heroes Fall Festival. We will have games\, bouncy house\, fall pictures with our pig. Animal adoptions\, food by Raising Cane\, silent Auction. &nbsp\;Please come in costume and bring your kids and have a great time
LOCATION:15606 S Memorial Drive
UID:e.1611.1242
SEQUENCE:3
DTSTAMP:20260421T074822Z
URL:https://portal.bixbychamber.com/events/details/2013-horizon-heroes-fall-festival-10-26-2013-1242
END:VEVENT

END:VCALENDAR
