BEGIN:VCALENDAR
VERSION:2.0
PRODID:-//ChamberMaster//Event Calendar 2.0//EN
METHOD:PUBLISH
X-PUBLISHED-TTL:P3D
REFRESH-INTERVAL:P3D
CALSCALE:GREGORIAN
BEGIN:VEVENT
DTSTART:20130411T171500Z
DTEND:20130411T230000Z
X-MICROSOFT-CDO-ALLDAYEVENT:FALSE
SUMMARY:2013 Hope FORE Orphans Golf Tournament
DESCRIPTION:Project Orphans is hosting a fun afternoon of golfing at White Hawk in Bixby for local professionals to be apart of. All proceeds raised will be given to Project Orphans and it's mission to build safe and loving homes for orphaned children in Jamaica and Uganda.
X-ALT-DESC;FMTTYPE=text/html:Project Orphans is hosting a fun afternoon of golfing at White Hawk in Bixby for local professionals to be apart of. All proceeds raised will be given to Project Orphans and it&#39\;s mission to build safe and loving homes for orphaned children in Jamaica and Uganda.
LOCATION:White Hawk Golf Course
UID:e.1611.594
SEQUENCE:3
DTSTAMP:20260421T151815Z
URL:https://portal.bixbychamber.com/events/details/2013-hope-fore-orphans-golf-tournament-04-11-2013-594
END:VEVENT

END:VCALENDAR
