BEGIN:VCALENDAR
VERSION:2.0
PRODID:-//ChamberMaster//Event Calendar 2.0//EN
METHOD:PUBLISH
X-PUBLISHED-TTL:P3D
REFRESH-INTERVAL:P3D
CALSCALE:GREGORIAN
BEGIN:VEVENT
DTSTART:20131207T150000Z
DTEND:20131207T220000Z
X-MICROSOFT-CDO-ALLDAYEVENT:FALSE
SUMMARY:2013 Holiday Arts and Crafts Show
DESCRIPTION:Join us in our 28th Annual Holiday Arts and Crafts Show. There are over 70 booths with a large variety of items wanting a new home. Just in time for the holidays. Jewelry\, fabric\, wood crafts items\, food\, are just some of the things that can be purchased.
X-ALT-DESC;FMTTYPE=text/html:Join us in our 28th Annual Holiday Arts and Crafts Show. There are over 70 booths with a large variety of items wanting a new home. Just in time for the holidays. Jewelry\, fabric\, wood crafts items\, food\, are just some of the things that can be purchased.
LOCATION:Bixby Community Center\, 211 N. Cabaniss
UID:e.1611.685
SEQUENCE:3
DTSTAMP:20260421T033853Z
URL:https://portal.bixbychamber.com/events/details/2013-holiday-arts-and-crafts-show-12-07-2013-685
END:VEVENT

END:VCALENDAR
