BEGIN:VCALENDAR
VERSION:2.0
PRODID:-//ChamberMaster//Event Calendar 2.0//EN
METHOD:PUBLISH
X-PUBLISHED-TTL:P3D
REFRESH-INTERVAL:P3D
CALSCALE:GREGORIAN
BEGIN:VEVENT
DTSTART:20130406T140000Z
DTEND:20130406T200000Z
X-MICROSOFT-CDO-ALLDAYEVENT:FALSE
SUMMARY:2013 Greater Tulsa Area Train Show
DESCRIPTION:Operating train layouts\, model trains to buy\, sell and trade.
X-ALT-DESC;FMTTYPE=text/html:Operating train layouts\, model trains to buy\, sell and trade.
LOCATION:Bixby Community Center\, 211 N. Cabaniss Ave\, Bixby
UID:e.1611.611
SEQUENCE:3
DTSTAMP:20260421T142444Z
URL:https://portal.bixbychamber.com/events/details/2013-greater-tulsa-area-train-show-04-06-2013-611
END:VEVENT

END:VCALENDAR
