BEGIN:VCALENDAR
VERSION:2.0
PRODID:-//ChamberMaster//Event Calendar 2.0//EN
METHOD:PUBLISH
X-PUBLISHED-TTL:P3D
REFRESH-INTERVAL:P3D
CALSCALE:GREGORIAN
BEGIN:VEVENT
DTSTART;VALUE=DATE:20131112
DTEND;VALUE=DATE:20131113
TRANSP:TRANSPARENT
X-MICROSOFT-CDO-ALLDAYEVENT:TRUE
SUMMARY:2013 Grand Opening Communication Federal Credit Union
DESCRIPTION:
X-ALT-DESC;FMTTYPE=text/html:
LOCATION:Communication Federal Credit Union 11894 South Memorial Drive Bixby\, OK 74008
UID:e.1611.1247
SEQUENCE:3
DTSTAMP:20260421T050808Z
URL:https://portal.bixbychamber.com/events/details/2013-grand-opening-communication-federal-credit-union-11-12-2013-1247
END:VEVENT

END:VCALENDAR
