BEGIN:VCALENDAR
VERSION:2.0
PRODID:-//ChamberMaster//Event Calendar 2.0//EN
METHOD:PUBLISH
X-PUBLISHED-TTL:P3D
REFRESH-INTERVAL:P3D
CALSCALE:GREGORIAN
BEGIN:VEVENT
DTSTART:20130412T000000Z
DTEND:20130414T040000Z
X-MICROSOFT-CDO-ALLDAYEVENT:FALSE
SUMMARY:2013 Gospel Singing Time in Tulsa
DESCRIPTION:Paradise is presenting concerts on the nights of April 11\, 12 and 13 beginning at 7:00 p.m. presenting 13 of the most famous Southern Gospel Music Groups in the country\,
X-ALT-DESC;FMTTYPE=text/html:Paradise is presenting concerts on the nights of April 11\, 12 and 13 beginning at 7:00 p.m. presenting 13 of the most famous Southern Gospel Music Groups in the country\,
LOCATION:Spirit Bank Event Center
UID:e.1611.609
SEQUENCE:3
DTSTAMP:20260421T152452Z
URL:https://portal.bixbychamber.com/events/details/2013-gospel-singing-time-in-tulsa-04-11-2013-609
END:VEVENT

END:VCALENDAR
