BEGIN:VCALENDAR
VERSION:2.0
PRODID:-//ChamberMaster//Event Calendar 2.0//EN
METHOD:PUBLISH
X-PUBLISHED-TTL:P3D
REFRESH-INTERVAL:P3D
CALSCALE:GREGORIAN
BEGIN:VEVENT
DTSTART:20131021T160000Z
DTEND:20131022T030000Z
X-MICROSOFT-CDO-ALLDAYEVENT:FALSE
SUMMARY:2013 Give Back Event for Women Who Care
DESCRIPTION:Give Back Event for Women Who Care     For each Event Chili's will donate 10% of receipts that are turned in with the flyers. A guest may bring a flyer or mention to server they are here for the Event. \n\n\n\n"Women Who Care"\, a non-profit organization that provides free breast exams for women who cannot afford it.  October is National Breast Cancer awareness month so what a perfect time for Chili's to get involved!
X-ALT-DESC;FMTTYPE=text/html:<span style="font-size:12px\;"><span style="font-family:arial\;">Give Back Event for&nbsp\;Women Who Care&nbsp\;&nbsp\;&ndash\; &nbsp\;For each Event Chili&#39\;s will donate 10% of receipts that are turned in with the flyers. A guest may bring a flyer or mention to server they are here for the Event.&nbsp\;<br />\n<br />\n&ldquo\;Women Who Care&rdquo\;\, a non-profit organization that provides free breast exams for women who cannot afford it.&nbsp\; October is National Breast Cancer awareness month so what a perfect time for Chili&rsquo\;s to get involved! &nbsp\;</span></span>
LOCATION:Chili's Grill & Bar 11138 South Memorial Drive Bixby\, OK 74008
UID:e.1611.1233
SEQUENCE:3
DTSTAMP:20260421T064011Z
URL:https://portal.bixbychamber.com/events/details/2013-give-back-event-for-women-who-care-10-21-2013-1233
END:VEVENT

END:VCALENDAR
