BEGIN:VCALENDAR
VERSION:2.0
PRODID:-//ChamberMaster//Event Calendar 2.0//EN
METHOD:PUBLISH
X-PUBLISHED-TTL:P3D
REFRESH-INTERVAL:P3D
CALSCALE:GREGORIAN
BEGIN:VEVENT
DTSTART:20131014T160000Z
DTEND:20131015T030000Z
X-MICROSOFT-CDO-ALLDAYEVENT:FALSE
SUMMARY:2013 Give Back Event for Tulsa Garden Center
DESCRIPTION:Give Back Event for Tulsa Garden    For each Event Chili's will donate 10% of receipts that are turned in with the flyers. A guest may bring a flyer or mention to server they are here for the Event. \n\n\n\nTulsa Garden Center\, located in historic Woodward Park\, is a nonprofit organization whose mission is to provide a variety of horticultural and environmental education opportunities for the community and to serve as horticultural headquarters for the Tulsa area.\n\nA primary goal is to promote learning about plants through educational and recreational programs\, while preserving the heritage of its historic building. Tulsa Garden Center fulfills its role as part of a larger botanical community by advocating responsible stewardship of plants and their habitats and frequently sponsors lectures\, classes\, shows and special events. \n\nThe Center is open to the public with no admission charge Tuesday   Saturday 9:00 a.m. until 4:00 p.m.
X-ALT-DESC;FMTTYPE=text/html:<span style="font-family:calibri\,sans-serif\;"><span style="font-size:11.0pt\;">Give Back Event for Tulsa Garden&nbsp\;</span></span><span style="font-family:calibri\,sans-serif\;"><span style="font-size:11.0pt\;">&ndash\; &nbsp\;For each Event Chili&#39\;s will donate 10% of receipts that are turned in with the flyers. A guest may bring a flyer or mention to server they are here for the Event.&nbsp\;</span></span><br />\n<br />\n<span style="font-family:arial\,sans-serif\;"><span style="font-size:10.0pt\;">Tulsa Garden Center\, located in historic Woodward Park\, is a nonprofit organization whose mission is to provide a variety of horticultural and environmental education opportunities for the community and to serve as horticultural headquarters for the Tulsa area.</span></span><br />\n<span style="font-family:arial\,sans-serif\;"><span style="font-size:10.0pt\;">A primary goal is to promote learning about plants through educational and recreational programs\, while preserving the heritage of its historic building. Tulsa Garden Center fulfills its role as part of a larger botanical community by advocating responsible stewardship of plants and their habitats and frequently sponsors lectures\, classes\, shows and special events. </span></span><br />\n<span style="font-family:arial\,sans-serif\;"><span style="font-size:10.0pt\;">The Center is open to the public with no admission charge Tuesday &ndash\; Saturday 9:00 a.m. until 4:00 p.m.</span></span>
LOCATION:Chili's Grill & Bar 11138 South Memorial Drive Bixby\, OK 74008
UID:e.1611.1231
SEQUENCE:3
DTSTAMP:20260421T064103Z
URL:https://portal.bixbychamber.com/events/details/2013-give-back-event-for-tulsa-garden-center-10-14-2013-1231
END:VEVENT

END:VCALENDAR
