BEGIN:VCALENDAR
VERSION:2.0
PRODID:-//ChamberMaster//Event Calendar 2.0//EN
METHOD:PUBLISH
X-PUBLISHED-TTL:P3D
REFRESH-INTERVAL:P3D
CALSCALE:GREGORIAN
BEGIN:VEVENT
DTSTART:20131017T160000Z
DTEND:20131018T030000Z
X-MICROSOFT-CDO-ALLDAYEVENT:FALSE
SUMMARY:2013 Give Back Event for Shriner's Hospitals for Children
DESCRIPTION:Give Back Event for Shriners Hospitals for Children     For each Event Chili's will donate 10% of receipts that are turned in with the flyers. A guest may bring a flyer or mention to server they are here for the Event. \n\n\n\nShriners Believe in Giving Back\n\nShriners Hospitals for Children  were founded in 1922 with the goal of providing expert medical care for children with no financial burden to the patients or their families. \n\nToday that philanthropic effort supports the health care system's 22 facilities across the U.S.\, Canada and Mexico\, treating children up to 18 years of age who have orthopedic conditions\, burn care\, bone deformities\, spinal cord injuries\, and cleft lip and palate. Our advanced care is provided in a family-centered environment that is focused on maximizing a child's quality of life\, regardless of the family's ability to pay.\n\nHere is the website link if you would like to read more:   http://www.shrinershospitalsforchildren.org/
X-ALT-DESC;FMTTYPE=text/html:<span style="font-family:calibri\,sans-serif\;"><span style="font-size:11.0pt\;">Give Back Event for&nbsp\;</span></span><span style="font-family:calibri\,sans-serif\;"><span style="font-size:11.0pt\;">Shriners Hospitals for Children&nbsp\;</span></span><span style="font-family:calibri\,sans-serif\;"><span style="font-size:11.0pt\;">&nbsp\;</span></span><span style="font-family:calibri\,sans-serif\;"><span style="font-size:11.0pt\;">&ndash\; &nbsp\;For each Event Chili&#39\;s will donate 10% of receipts that are turned in with the flyers. A guest may bring a flyer or mention to server they are here for the Event.&nbsp\;</span></span><br />\n<br />\n<strong><span style="font-family:arial\,sans-serif\;"><span style="font-size:13.5pt\;">Shriners Believe in Giving Back</span></span></strong><br />\n<span style="font-family:arial\,sans-serif\;"><span style="font-size:9.0pt\;">Shriners Hospitals for Children&reg\; were founded in 1922 with the goal of providing expert medical care for children with no financial burden to the patients or their families. </span></span><br />\n<span style="font-family:arial\,sans-serif\;"><span style="font-size:9.0pt\;">Today that philanthropic effort supports the health care system&#39\;s 22 facilities across the U.S.\, Canada and Mexico\, treating children up to 18 years of age who have orthopedic conditions\, burn care\, bone deformities\, spinal cord injuries\, and cleft lip and palate. Our advanced care is provided in a family-centered environment that is focused on maximizing a child&rsquo\;s quality of life\, regardless of the family&rsquo\;s ability to pay.</span></span><br />\nHere is the website link if you would like to read more: &nbsp\; <a href="http://www.shrinershospitalsforchildren.org/"><span style="color:windowtext\;">http://www.shrinershospitalsforchildren.org/</span></a>
LOCATION:Chili's Grill & Bar 11138 South Memorial Drive Bixby\, OK 74008
UID:e.1611.1232
SEQUENCE:3
DTSTAMP:20260421T064053Z
URL:https://portal.bixbychamber.com/events/details/2013-give-back-event-for-shriner-s-hospitals-for-children-10-17-2013-1232
END:VEVENT

END:VCALENDAR
