BEGIN:VCALENDAR
VERSION:2.0
PRODID:-//ChamberMaster//Event Calendar 2.0//EN
METHOD:PUBLISH
X-PUBLISHED-TTL:P3D
REFRESH-INTERVAL:P3D
CALSCALE:GREGORIAN
BEGIN:VEVENT
DTSTART:20131029T160000Z
DTEND:20131030T030000Z
X-MICROSOFT-CDO-ALLDAYEVENT:FALSE
SUMMARY:2013 Give Back Event for Extreme Tumbling
DESCRIPTION:Give Back Event for Extreme Tumbling      For each Event Chili's will donate 10% of receipts that are turned in with the flyers. A guest may bring a flyer or mention to server they are here for the Event.
X-ALT-DESC;FMTTYPE=text/html:<span style="font-size:12px\;"><span style="font-family:arial\;">Give Back Event for&nbsp\;</span></span><span style="font-family:calibri\,sans-serif\;"><span style="font-size:11.0pt\;">Extreme Tumbling&nbsp\;</span></span><span style="font-size:12px\;"><span style="font-family:arial\;">&nbsp\;&nbsp\;&ndash\; &nbsp\;For each Event Chili&#39\;s will donate 10% of receipts that are turned in with the flyers. A guest may bring a flyer or mention to server they are here for the Event.&nbsp\;</span></span>
LOCATION:Chili's Grill & Bar 11138 South Memorial Drive Bixby\, OK 74008
UID:e.1611.1234
SEQUENCE:3
DTSTAMP:20260421T063941Z
URL:https://portal.bixbychamber.com/events/details/2013-give-back-event-for-extreme-tumbling-10-29-2013-1234
END:VEVENT

END:VCALENDAR
