BEGIN:VCALENDAR
VERSION:2.0
PRODID:-//ChamberMaster//Event Calendar 2.0//EN
METHOD:PUBLISH
X-PUBLISHED-TTL:P3D
REFRESH-INTERVAL:P3D
CALSCALE:GREGORIAN
BEGIN:VEVENT
DTSTART;VALUE=DATE:20130624
DTEND;VALUE=DATE:20130625
TRANSP:TRANSPARENT
X-MICROSOFT-CDO-ALLDAYEVENT:TRUE
SUMMARY:2013 Genghis Grill's Help Us Rebuild Moore's Public School
DESCRIPTION:
X-ALT-DESC;FMTTYPE=text/html:
LOCATION:
UID:e.1611.655
SEQUENCE:3
DTSTAMP:20260421T115148Z
URL:https://portal.bixbychamber.com/events/details/2013-genghis-grill-s-help-us-rebuild-moore-s-public-school-06-24-2013-655
END:VEVENT

END:VCALENDAR
