BEGIN:VCALENDAR
VERSION:2.0
PRODID:-//ChamberMaster//Event Calendar 2.0//EN
METHOD:PUBLISH
X-PUBLISHED-TTL:P3D
REFRESH-INTERVAL:P3D
CALSCALE:GREGORIAN
BEGIN:VEVENT
DTSTART;VALUE=DATE:20130426
DTEND;VALUE=DATE:20130428
TRANSP:TRANSPARENT
X-MICROSOFT-CDO-ALLDAYEVENT:TRUE
SUMMARY:2013 Free Quarry Landfill Days for Bixby Residents
DESCRIPTION:FREE QUARRY LANDFILL DAYS FOR BIXBY RESIDENTS APRIL 26th & 27th\, 2013.\n\nFree landfill days for Bixby residents will be Friday and Saturday\, April 26th and 27th\, 2013\, at the Quarry Landfill on 46th Street North in Tulsa\, approximately 1-1   miles east of US 169.\n\nBixby utility customers can dispose of unwanted items\, with some exceptions\, as noted below on those days.\n\n \n\nParticipants must show a City of Bixby utility bill or drivers license with an address within the Bixby City Limits in order to be admitted to the landfill.\n\nNo items containing Freon refrigerant will be accepted (air conditioners and refrigerators). There will be a two dollar ($2) fee for each discarded tire to cover state fees for disposal and recycling.\n\nLoads in trucks and trailers should be secured and covered to prevent contents from blowing onto roadways and creating traffic hazards.\n\n\n\nFor more information contact the Quarry Landfill (918) 439-7835\, or the City of Bixby\, (918) 366-4430. \n\n \n\nIN ADDITION:\n\nThe Metropolitan Environmental Trust Fairgrounds Pollution Collection Event for Bixby residents will be held:\n\nSaturday\, April 13th\, and Sunday\, April 14th\, 2013.\n\n10:00 am until 3:00 pm.\n\nTulsa State Fairgrounds\, Gate 7\, 15th and Sandusky Street.  \n\nACCEPTED WASTE: Household cleaners\, pesticides\, fertilizers\, automotive fluids\, cooking oil\, batteries\, fluorescent light bulbs\, ammunition under .50 caliber\, smoke alarms\, NON-LATEX PAINTS\, pool chemicals\, stains\, medications\, and items containing mercury.\n\nUNACCEPTED WASTE: Commercial waste\, LATEX PAINT\, tires\, computers\, radioactive materials\, dioxins\, pressurized gas cylinders\, explosives\, and water reactive chemicals.\n\nFor more information contact the Tulsa Metropolitan Environmental Trust at www.metrecycle.com or (918) 584-0584.
X-ALT-DESC;FMTTYPE=text/html:<strong><span style="font-size:11.0pt\;">FREE QUARRY LANDFILL DAYS FOR BIXBY RESIDENTS APRIL 26<sup>th</sup> &amp\; 27<sup>th</sup>\, 2013.</span></strong><br />\n<strong><span style="font-size:11.0pt\;">Free landfill days for Bixby residents will be Friday and Saturday\, April 26<sup>th</sup> and 27<sup>th</sup>\, 2013\, at the Quarry Landfill on 46<sup>th</sup> Street North in Tulsa\, approximately 1-1 &frac12\; miles east of US 169.</span></strong><br />\n<strong><span style="font-size:11.0pt\;">Bixby utility customers can dispose of unwanted items\, with some exceptions\, as noted below on those days.</span></strong><br />\n&nbsp\;<br />\n<strong><span style="font-size:11.0pt\;">Participants must show a City of Bixby utility bill or drivers license with an address within the Bixby City Limits in order to be admitted to the landfill.</span></strong><br />\n<strong><span style="font-size:11.0pt\;">No items containing Freon refrigerant will be accepted (air conditioners and refrigerators). There will be a two dollar ($2) fee for each discarded tire to cover state fees for disposal and recycling.</span></strong><br />\n<strong><span style="font-size:11.0pt\;">Loads in trucks and trailers should be secured and covered to prevent contents from blowing onto roadways and creating traffic hazards.</span></strong><br />\n<br />\n<strong><span style="font-size:11.0pt\;">For more information contact the Quarry Landfill (918) 439-7835\, or the City of Bixby\, (918) 366-4430. </span></strong><br />\n&nbsp\;<br />\n<strong><u><span style="font-size:11.0pt\;">IN ADDITION:</span></u></strong><br />\n<strong><span style="font-size:11.0pt\;">The Metropolitan Environmental Trust Fairgrounds Pollution Collection Event for Bixby residents will be held:</span></strong><br />\n<strong><span style="font-size:11.0pt\;">Saturday\, April 13<sup>th</sup>\, and Sunday\, April 14<sup>th</sup>\, 2013.</span></strong><br />\n<strong><span style="font-size:11.0pt\;">10:00 am until 3:00 pm.</span></strong><br />\n<strong><span style="font-size:11.0pt\;">Tulsa State Fairgrounds\, Gate 7\, 15<sup>th</sup> and Sandusky Street. &nbsp\;</span></strong><br />\n<strong><u><span style="font-size:11.0pt\;">ACCEPTED WASTE</span></u></strong><strong><span style="font-size:11.0pt\;">: Household cleaners\, pesticides\, fertilizers\, automotive fluids\, cooking oil\, batteries\, fluorescent light bulbs\, ammunition under .50 caliber\, smoke alarms\, NON-LATEX PAINTS\, pool chemicals\, stains\, medications\, and items containing mercury.</span></strong><br />\n<strong><u><span style="font-size:11.0pt\;">UNACCEPTED WASTE</span></u></strong><strong><span style="font-size:11.0pt\;">: Commercial waste\, LATEX PAINT\, tires\, computers\, radioactive materials\, dioxins\, pressurized gas cylinders\, explosives\, and water reactive chemicals.</span></strong><br />\n<strong><span style="font-size:11.0pt\;">For more information contact the Tulsa Metropolitan Environmental Trust at <a href="http://www.metrecycle.com">www.metrecycle.com</a> or (918) 584-0584.</span></strong>
LOCATION:The Quarry Landfill is located at 13740 East 46th Street North\, Tulsa. (NOTE: There are two landfills on East 46th Street North. Look for the Quarry-Waste Management\, Inc. sign.)
UID:e.1611.620
SEQUENCE:3
DTSTAMP:20260421T142638Z
URL:https://portal.bixbychamber.com/events/details/2013-free-quarry-landfill-days-for-bixby-residents-04-26-2013-620
END:VEVENT

END:VCALENDAR
