BEGIN:VCALENDAR
VERSION:2.0
PRODID:-//ChamberMaster//Event Calendar 2.0//EN
METHOD:PUBLISH
X-PUBLISHED-TTL:P3D
REFRESH-INTERVAL:P3D
CALSCALE:GREGORIAN
BEGIN:VEVENT
DTSTART:20131204T210000Z
DTEND:20131204T230000Z
X-MICROSOFT-CDO-ALLDAYEVENT:FALSE
SUMMARY:2013 Free Pictures with Santa- Communication Federal Credit Union
DESCRIPTION:Free photos with Santa on Wednesday from 3:00 PM   5:00 PM\n\n\n\n   They will be running Specials for new accounts and loans all week this week!
X-ALT-DESC;FMTTYPE=text/html:<span style="color:black\;"><span style="font-family:symbol\;">&nbsp\;&nbsp\;</span></span><span style="color:black\;">Free photos with Santa on Wednesday from 3:00 PM &ndash\; 5:00 PM</span><br />\n<br />\n<span style="color:black\;"><span style="font-family:symbol\;">&nbsp\; &nbsp\;</span></span><span style="color:black\;">They will be running Specials for new accounts and loans all week this week!</span><br />\n&nbsp\;
LOCATION:Communication Federal Credit Union 11894 South Memorial Drive Bixby\, OK 74008
UID:e.1611.1249
SEQUENCE:3
DTSTAMP:20260421T033855Z
URL:https://portal.bixbychamber.com/events/details/2013-free-pictures-with-santa-communication-federal-credit-union-12-04-2013-1249
END:VEVENT

END:VCALENDAR
