BEGIN:VCALENDAR
VERSION:2.0
PRODID:-//ChamberMaster//Event Calendar 2.0//EN
METHOD:PUBLISH
X-PUBLISHED-TTL:P3D
REFRESH-INTERVAL:P3D
CALSCALE:GREGORIAN
BEGIN:VEVENT
DTSTART:20131116T143000Z
DTEND:20131116T180000Z
X-MICROSOFT-CDO-ALLDAYEVENT:FALSE
SUMMARY:2013 First Annual Superhero Run
DESCRIPTION:The superhero run will include a timed 5K race and 1K fun run. Please consider running with us at Bentley Park in Bixby  at 8:30 AM on November 16\,2013. Like us on Facebook and register online at: https://cposuperherorun.eventbrite.com
X-ALT-DESC;FMTTYPE=text/html:The superhero run will include a timed 5K race and 1K fun run. Please consider running with us at Bentley Park in Bixby &nbsp\;at 8:30 AM on November 16\,2013. Like us on Facebook and register online at: https://cposuperherorun.eventbrite.com
LOCATION:
UID:e.1611.692
SEQUENCE:3
DTSTAMP:20260421T050514Z
URL:https://portal.bixbychamber.com/events/details/2013-first-annual-superhero-run-11-16-2013-692
END:VEVENT

END:VCALENDAR
