BEGIN:VCALENDAR
VERSION:2.0
PRODID:-//ChamberMaster//Event Calendar 2.0//EN
METHOD:PUBLISH
X-PUBLISHED-TTL:P3D
REFRESH-INTERVAL:P3D
CALSCALE:GREGORIAN
BEGIN:VEVENT
DTSTART:20131013T180000Z
DTEND:20131013T200000Z
X-MICROSOFT-CDO-ALLDAYEVENT:FALSE
SUMMARY:2013 Fight Madd: Benefit for Maddi Simmons
DESCRIPTION:FIGHT MADD\n\nBENEFIT FOR MADDI SIMMONS\n\nSAVASTANO'S PIZZERIA\n\nSUNDAY OCTOBER 13\, 2013 1-3PM\n\nSHAVE-A-THON\, RAFFLES FOR PRIZES\, RAFFLES TO SHAVE A BIXBY POLICE OFFICERS HEAD AND SCHOOL COACHES\, THROW A PIE IN A TEACHER'S FACE. EAT AT SAVASTANO'S A PORTION OF THE DAILY SALES WILL BE DONATED TO THE MADDI SIMMONS FUND.\n\n\n\nMaddi Simmons is a 15 year old freshman at Bixby High School. She is cheerleader who has spent time as a Bixby Buddy\, a Peer Mediator and Counselor Aid. She was diagnosed on August 23rd with osteosarcoma\, a rare form of bone cancer that affects mostly children and young adults. Only approximately 150-200 girls receive this diagnosis each year. Although she has a long battle in front of her\, this spunky and sweet girl continues to remains positive and determined to beat this. Donations can be made at Arvest Bank : Madison L. Simmons acct#8987
X-ALT-DESC;FMTTYPE=text/html:<span style="font-size:12px\;"><span style="font-family:arial\;"><span style="font-size:16px\;"><strong><span style="color:#00b0f0\;">FIGHT MADD</span></strong><br />\n<strong><span style="color:#00b0f0\;">BENEFIT FOR MADDI SIMMONS</span></strong><br />\n<strong><span style="color:red\;">SAVASTANO&rsquo\;S PIZZERIA</span></strong><br />\n<strong><span style="color:red\;">SUNDAY OCTOBER 13\, 2013 1-3PM</span></strong></span><br />\n<strong>SHAVE-A-THON\, RAFFLES FOR PRIZES\, RAFFLES TO SHAVE A BIXBY POLICE OFFICERS HEAD AND SCHOOL COACHES\, THROW A PIE IN A TEACHER&rsquo\;S FACE. EAT AT SAVASTANO&rsquo\;S A PORTION OF THE DAILY SALES WILL BE DONATED TO THE MADDI SIMMONS FUND.</strong><br />\n<br />\n<strong><span style="color:#00b0f0\;">Maddi Simmons is a 15 year old freshman at Bixby High School. She is cheerleader who has spent time as a Bixby Buddy\, a Peer Mediator and Counselor Aid. She was diagnosed on August 23rd with osteosarcoma\, a rare form of bone cancer that affects mostly children and young adults. Only approximately 150-200 girls receive this diagnosis each year. Although she has a long battle in front of her\, this spunky and sweet girl continues to remains positive and determined to beat this. </span></strong><strong><span style="color:#0d0d0d\;">Donations can be made at Arvest Bank : Madison L. Simmons acct#8987</span></strong></span></span>
LOCATION:Savastano's Pizzeria 8211 SE Regal Blvd #109 Tulsa\, OK 74133 (918) 369-9387
UID:e.1611.703
SEQUENCE:3
DTSTAMP:20260421T074906Z
URL:https://portal.bixbychamber.com/events/details/2013-fight-madd-benefit-for-maddi-simmons-10-13-2013-703
END:VEVENT

END:VCALENDAR
