BEGIN:VCALENDAR
VERSION:2.0
PRODID:-//ChamberMaster//Event Calendar 2.0//EN
METHOD:PUBLISH
X-PUBLISHED-TTL:P3D
REFRESH-INTERVAL:P3D
CALSCALE:GREGORIAN
BEGIN:VEVENT
DTSTART:20130227T134500Z
DTEND:20130227T150000Z
X-MICROSOFT-CDO-ALLDAYEVENT:FALSE
SUMMARY:2013 February Breakfast with the Board
DESCRIPTION:The Bixby Metro Chamber is comprised of some of the most influential individuals in Bixby and South Tulsa area. Enjoy Breakfast while visiting and hearing from our BMC board.
X-ALT-DESC;FMTTYPE=text/html:The Bixby Metro Chamber is comprised of some of the most influential&nbsp\;individuals in Bixby and South Tulsa area. Enjoy Breakfast while visiting and hearing from our BMC board.&nbsp\;
LOCATION:Holiday Inn & Suites 10020 East 81st Street Tulsa\, OK 74133
UID:e.1611.259
SEQUENCE:3
DTSTAMP:20260421T165306Z
URL:https://portal.bixbychamber.com/events/details/2013-february-breakfast-with-the-board-02-27-2013-259
END:VEVENT

END:VCALENDAR
