BEGIN:VCALENDAR
VERSION:2.0
PRODID:-//ChamberMaster//Event Calendar 2.0//EN
METHOD:PUBLISH
X-PUBLISHED-TTL:P3D
REFRESH-INTERVAL:P3D
CALSCALE:GREGORIAN
BEGIN:VEVENT
DTSTART:20130914T230000Z
DTEND:20130915T020000Z
X-MICROSOFT-CDO-ALLDAYEVENT:FALSE
SUMMARY:2013 Father Daughter Dance
DESCRIPTION:Annual Fall Father Daughter Dance for all ages. D.J. Connection will provide the music. Some snacks and punch provided.
X-ALT-DESC;FMTTYPE=text/html:Annual Fall Father Daughter Dance for all ages. D.J. Connection will provide the music. Some snacks and punch provided.
LOCATION:Bixby Community Center\, 211 N. Cabaniss
UID:e.1611.682
SEQUENCE:3
DTSTAMP:20260421T090602Z
URL:https://portal.bixbychamber.com/events/details/2013-father-daughter-dance-09-14-2013-682
END:VEVENT

END:VCALENDAR
