BEGIN:VCALENDAR
VERSION:2.0
PRODID:-//ChamberMaster//Event Calendar 2.0//EN
METHOD:PUBLISH
X-PUBLISHED-TTL:P3D
REFRESH-INTERVAL:P3D
CALSCALE:GREGORIAN
BEGIN:VEVENT
DTSTART:20131013T143000Z
DTEND:20131013T190000Z
X-MICROSOFT-CDO-ALLDAYEVENT:FALSE
SUMMARY:2013 Family Fun Venture
DESCRIPTION:Join us for Vintage Faith's Family Fun Venture!  \n\n 9:30 am - worship gathering at Pizza Shoppe (131st & Memorial)\n\n11:00 am - Dutch treat lunch together @ Pizza Shoppe\n\n12:15 pm - family scavenger hunt around Bixby\n\n 1:15 pm - return to Pizza Shoppe for prizes\, ice cream & to learn more about Vintage Faith\n\n\n\nThis FREE event is a great way for individuals and families to have lots of fun together and learn more about VF.  Even if you are unable to make it to our worship gathering or lunch\, please join us for the scavenger hunt & ice cream!  Please sign-up by Friday\, Oct. 11 by calling 918-640-7557.\n\n\n\nVintage Faith is a new family integrated Southern Baptist church.  Visit our website to learn more about us and how you can be a part of our launch team.
X-ALT-DESC;FMTTYPE=text/html:<strong>Join us for Vintage Faith&#39\;s Family Fun Venture! &nbsp\;</strong><br />\n&nbsp\;9:30 am - worship gathering at Pizza Shoppe (131st &amp\; Memorial)<br />\n11:00 am - Dutch treat lunch together @ Pizza Shoppe<br />\n12:15 pm - family scavenger hunt around Bixby<br />\n&nbsp\;1:15 pm - return to Pizza Shoppe for prizes\, ice cream &amp\; to learn more about Vintage Faith<br />\n<br />\nThis FREE event is a great way for individuals and families to have lots of fun together and learn more about VF.&nbsp\; Even if you are unable to make it to our worship gathering or lunch\, please join us for the scavenger hunt &amp\; ice cream! &nbsp\;<em><strong>Please sign-up by Friday\, Oct. 11 by calling 918-640-7557.</strong></em><br />\n<br />\nVintage Faith is a new family integrated Southern Baptist church. &nbsp\;Visit our website to learn more about us and how you can be a part of our launch team.
LOCATION:Pizza Shoppe @ 131st & Memorial
UID:e.1611.705
SEQUENCE:3
DTSTAMP:20260421T063421Z
URL:https://portal.bixbychamber.com/events/details/2013-family-fun-venture-10-13-2013-705
END:VEVENT

END:VCALENDAR
