BEGIN:VCALENDAR
VERSION:2.0
PRODID:-//ChamberMaster//Event Calendar 2.0//EN
METHOD:PUBLISH
X-PUBLISHED-TTL:P3D
REFRESH-INTERVAL:P3D
CALSCALE:GREGORIAN
BEGIN:VEVENT
DTSTART:20131012T210000Z
DTEND:20131013T010000Z
X-MICROSOFT-CDO-ALLDAYEVENT:FALSE
SUMMARY:2013 Family Fitness Festival
DESCRIPTION:Free health and fitness carnival 4-8pm. Saint Francis Health Zone 5353 E 68th St. Featuring Glow Zumba 6-7:30pm\, Youth FitZone with inflatable obstacle course\, and Children?s Carnival. For more information call 918-494-8263 or e-mail jldaley@saintfrancis.com.
X-ALT-DESC;FMTTYPE=text/html:Free health and fitness carnival 4-8pm. Saint Francis Health Zone 5353 E 68th St. Featuring Glow Zumba 6-7:30pm\, Youth FitZone with inflatable obstacle course\, and Children?s Carnival. For more information call 918-494-8263 or e-mail jldaley@saintfrancis.com.
LOCATION:Saint Francis Health Zone 5353 E 68th St. Tulsa\, OK 74136
UID:e.1611.693
SEQUENCE:3
DTSTAMP:20260421T064235Z
URL:https://portal.bixbychamber.com/events/details/2013-family-fitness-festival-10-12-2013-693
END:VEVENT

END:VCALENDAR
