BEGIN:VCALENDAR
VERSION:2.0
PRODID:-//ChamberMaster//Event Calendar 2.0//EN
METHOD:PUBLISH
X-PUBLISHED-TTL:P3D
REFRESH-INTERVAL:P3D
CALSCALE:GREGORIAN
BEGIN:VEVENT
DTSTART:20130921T133000Z
DTEND:20131012T180000Z
X-MICROSOFT-CDO-ALLDAYEVENT:FALSE
SUMMARY:2013 Entrepreneurs Inspire Bootcamp
DESCRIPTION:Building from key elements on Oklahoma State University's award-winning entrepreneurship curriculum\, the "Entrepreneurs Inspire Bootcamp" is a series of modules designed to assist entrepreneurs and aspiring entrepreneurs in growing businesses successfully and profitably. This new and revised four-week program features more interaction with guest entrepreneurs and workshop sessions with industry experts for an improved hands-on experience on how to apply the lessons learned to a new start-up.
X-ALT-DESC;FMTTYPE=text/html:Building from key elements on Oklahoma State University&#39\;s award-winning entrepreneurship curriculum\, the &quot\;Entrepreneurs Inspire Bootcamp&quot\; is a series of modules designed to assist entrepreneurs and aspiring entrepreneurs in growing businesses successfully and profitably. This new and revised four-week program features more interaction with guest entrepreneurs and workshop sessions with industry experts for an improved hands-on experience on how to apply the lessons learned to a new start-up.
LOCATION:OSU-Tulsa campus
UID:e.1611.675
SEQUENCE:3
DTSTAMP:20260421T075102Z
URL:https://portal.bixbychamber.com/events/details/2013-entrepreneurs-inspire-bootcamp-09-21-2013-675
END:VEVENT

END:VCALENDAR
