BEGIN:VCALENDAR
VERSION:2.0
PRODID:-//ChamberMaster//Event Calendar 2.0//EN
METHOD:PUBLISH
X-PUBLISHED-TTL:P3D
REFRESH-INTERVAL:P3D
CALSCALE:GREGORIAN
BEGIN:VEVENT
DTSTART:20130323T150000Z
DTEND:20130323T153000Z
X-MICROSOFT-CDO-ALLDAYEVENT:FALSE
SUMMARY:2013 Easter Egg Hunt
DESCRIPTION:Annual Easter Egg Hunt for children ages 12 & under divided into 4 age groups
X-ALT-DESC;FMTTYPE=text/html:Annual Easter Egg Hunt for children ages 12 &amp\; under divided into 4 age groups
LOCATION:Haikey Creek Park\, 113 S. Garnett
UID:e.1611.610
SEQUENCE:3
DTSTAMP:20260421T151217Z
URL:https://portal.bixbychamber.com/events/details/2013-easter-egg-hunt-03-23-2013-610
END:VEVENT

END:VCALENDAR
