BEGIN:VCALENDAR
VERSION:2.0
PRODID:-//ChamberMaster//Event Calendar 2.0//EN
METHOD:PUBLISH
X-PUBLISHED-TTL:P3D
REFRESH-INTERVAL:P3D
CALSCALE:GREGORIAN
BEGIN:VEVENT
DTSTART:20130324T024500Z
DTEND:20130324T031500Z
X-MICROSOFT-CDO-ALLDAYEVENT:FALSE
SUMMARY:2013 Easter Egg Hunt
DESCRIPTION:Bixby Community Center's Annual Easter Egg Hunt for children ages 12 & under. The children are divided into four age groups. Raindate is 03/24/2013 at 1:00pm\, lineup at 12:45pm. Several business in the Bixby area donate towards this event\,
X-ALT-DESC;FMTTYPE=text/html:Bixby Community Center&#39\;s Annual Easter Egg Hunt for children ages 12 &amp\; under. The children are divided into four age groups. Raindate is 03/24/2013 at 1:00pm\, lineup at 12:45pm. Several business in the Bixby area donate towards this event\,
LOCATION:Haikey Creek Park\, 126 & Garnett on the West side of park\, South of the tri-plex shelter
UID:e.1611.338
SEQUENCE:3
DTSTAMP:20260421T151218Z
URL:https://portal.bixbychamber.com/events/details/2013-easter-egg-hunt-03-23-2013-338
END:VEVENT

END:VCALENDAR
