BEGIN:VCALENDAR
VERSION:2.0
PRODID:-//ChamberMaster//Event Calendar 2.0//EN
METHOD:PUBLISH
X-PUBLISHED-TTL:P3D
REFRESH-INTERVAL:P3D
CALSCALE:GREGORIAN
BEGIN:VEVENT
DTSTART:20131128T003000Z
DTEND:20131128T013000Z
X-MICROSOFT-CDO-ALLDAYEVENT:FALSE
SUMMARY:2013 District 3 County Commissioner Forum
DESCRIPTION:Join us  Tues.\, June 4\, 6:30 to 7:30 p.m.\, in the Studio Theater at TCC's Southeast campus. All candidates have committed to this forum\, so bring your questions and meet the candidates.\n\nThis free\, public event\, co-sponsored by Tulsa Community College\, is your opportunity to meet the candidates and hear their responses to questions from the audience.\n\nThis will be a special election\, called to fill the seat  which will be vacated when Commissioner Fred Perry resigns in July\, 2013.\n\nThe special primary election will be held on June 11.  There will be four Republican candidates for this office on the special primary election ballot. The winner of this election will face a Democratic candidate in the July 13 special general election.\n\nAt the suggestion of one of the Republican candidates for this office\, all candidates will be in attendance at the forum.  Democratic voters will not vote until the July 13 general election\, but can ask questions of all candidates by attending this forum.\n\nAll Tulsa County residents are welcome to attend the forum\, but only voters in District 3 will vote in this election.
X-ALT-DESC;FMTTYPE=text/html:<p style="margin: 0px 0px 10px\; padding: 0px\; border: 0px\; outline: 0px\; font-size: 13px\; vertical-align: baseline\; background-color: rgb(231\, 233\, 235)\; text-shadow: rgb(251\, 251\, 251) 0px 1px 0px\; color: rgb(68\, 68\, 68)\; font-family: Helvetica\, 'Helvetica Neue'\, Arial\, sans-serif\; line-height: 22px\;"><strong style="margin: 0px\; padding: 0px\; border: 0px\; outline: 0px\; vertical-align: baseline\; background-color: transparent\;">Join us&nbsp\; Tues.\, June 4\, 6:30 to 7:30 p.m.\, in the Studio Theater at TCC&rsquo\;s Southeast campus. All candidates have committed to this forum\, so bring your questions and meet the candidates.</strong></p>\n\n<p style="margin: 0px 0px 10px\; padding: 0px\; border: 0px\; outline: 0px\; font-size: 13px\; vertical-align: baseline\; background-color: rgb(231\, 233\, 235)\; text-shadow: rgb(251\, 251\, 251) 0px 1px 0px\; color: rgb(68\, 68\, 68)\; font-family: Helvetica\, 'Helvetica Neue'\, Arial\, sans-serif\; line-height: 22px\;">This free\, public event\, co-sponsored by Tulsa Community College\, is your opportunity to meet the candidates and hear their responses to questions from the audience.</p>\n\n<p style="margin: 0px 0px 10px\; padding: 0px\; border: 0px\; outline: 0px\; font-size: 13px\; vertical-align: baseline\; background-color: rgb(231\, 233\, 235)\; text-shadow: rgb(251\, 251\, 251) 0px 1px 0px\; color: rgb(68\, 68\, 68)\; font-family: Helvetica\, 'Helvetica Neue'\, Arial\, sans-serif\; line-height: 22px\;"><strong style="margin: 0px\; padding: 0px\; border: 0px\; outline: 0px\; vertical-align: baseline\; background-color: transparent\;">This will be a special election\, called to fill the seat&nbsp\; which will be vacated when Commissioner Fred Perry resigns in July\, 2013.</strong><br />\nThe special primary election will be held on June 11.&nbsp\; There will be four Republican candidates for this office on the special primary election ballot. The winner of this election will face a Democratic candidate in the July 13 special general election.</p>\n\n<p style="margin: 0px 0px 10px\; padding: 0px\; border: 0px\; outline: 0px\; font-size: 13px\; vertical-align: baseline\; background-color: rgb(231\, 233\, 235)\; text-shadow: rgb(251\, 251\, 251) 0px 1px 0px\; color: rgb(68\, 68\, 68)\; font-family: Helvetica\, 'Helvetica Neue'\, Arial\, sans-serif\; line-height: 22px\;">At the suggestion of one of the Republican candidates for this office\, all candidates will be in attendance at the forum.&nbsp\; Democratic voters will not vote until the July 13 general election\, but can ask questions of all candidates by attending this forum.<br />\n<strong style="margin: 0px\; padding: 0px\; border: 0px\; outline: 0px\; vertical-align: baseline\;">All Tulsa County residents are welcome to attend the forum\, but only voters in District 3 will vote in this election.&nbsp\;</strong></p>\n
LOCATION:Studio Theater at TCC's Southeast campus 10300 East 81st Street Tulsa\, Oklahoma 74133
UID:e.1611.645
SEQUENCE:3
DTSTAMP:20260421T050436Z
URL:https://portal.bixbychamber.com/events/details/2013-district-3-county-commissioner-forum-11-27-2013-645
END:VEVENT

END:VCALENDAR
