BEGIN:VCALENDAR
VERSION:2.0
PRODID:-//ChamberMaster//Event Calendar 2.0//EN
METHOD:PUBLISH
X-PUBLISHED-TTL:P3D
REFRESH-INTERVAL:P3D
CALSCALE:GREGORIAN
BEGIN:VEVENT
DTSTART;VALUE=DATE:20130722
DTEND;VALUE=DATE:20130724
TRANSP:TRANSPARENT
X-MICROSOFT-CDO-ALLDAYEVENT:TRUE
SUMMARY:2013 Demand Driven- Training for the 21st Century
DESCRIPTION:Join us as we discuss workforce strategies and partnerships for developing skilled talent pipelines to meet the demands of business and industry. The program will include national and regional models and best practices partnered with business and community leaders\, workforce development\, education providers and professional organizations creating demand driven training program.
X-ALT-DESC;FMTTYPE=text/html:Join us as we discuss workforce strategies and partnerships for developing skilled talent pipelines to meet the demands of business and industry. The program will include national and regional models and best practices partnered with business and community leaders\, workforce development\, education providers and professional organizations creating demand driven training program.&nbsp\;
LOCATION:July 22-23\, 2013
UID:e.1611.639
SEQUENCE:3
DTSTAMP:20260421T113724Z
URL:https://portal.bixbychamber.com/events/details/2013-demand-driven-training-for-the-21st-century-07-22-2013-639
END:VEVENT

END:VCALENDAR
