BEGIN:VCALENDAR
VERSION:2.0
PRODID:-//ChamberMaster//Event Calendar 2.0//EN
METHOD:PUBLISH
X-PUBLISHED-TTL:P3D
REFRESH-INTERVAL:P3D
CALSCALE:GREGORIAN
BEGIN:VEVENT
DTSTART:20131205T233000Z
DTEND:20131206T010000Z
X-MICROSOFT-CDO-ALLDAYEVENT:FALSE
SUMMARY:2013 December After Hours
DESCRIPTION:A very relaxed and casual networking event that gives the highlighted business a great opportunity to promote your products and services. Food and beverages will be provided. \n\n\n\n\n	\n		Formal Catering\n	\n		Live Music\n	\n		Pictures with Santa\n	\n		Games for Kids\n	\n		Coffee Bar\n	\n		And More!
X-ALT-DESC;FMTTYPE=text/html:A very relaxed and casual networking event that gives the highlighted&nbsp\;business a great opportunity to promote your products and services. Food and beverages will be&nbsp\;provided.&nbsp\;<br />\n<br />\n<ul>\n	<li style="color:black\;">\n		<span style="font-family:arial\,sans-serif\;"><span style="font-size:9.0pt\;">Formal Catering</span></span></li>\n	<li style="color:black\;">\n		<span style="font-family:arial\,sans-serif\;"><span style="font-size:9.0pt\;">Live Music</span></span></li>\n	<li style="color:black\;">\n		<span style="font-family:arial\,sans-serif\;"><span style="font-size:9.0pt\;">Pictures with Santa</span></span></li>\n	<li style="color:black\;">\n		<span style="font-family:arial\,sans-serif\;"><span style="font-size:9.0pt\;">Games for Kids</span></span></li>\n	<li style="color:black\;">\n		<span style="font-family:arial\,sans-serif\;"><span style="font-size:9.0pt\;">Coffee Bar</span></span></li>\n	<li style="color:black\;">\n		<span style="font-family:arial\,sans-serif\;"><span style="font-size:9.0pt\;">And More!</span></span></li>\n</ul>\n
LOCATION:
UID:e.1611.315
SEQUENCE:3
DTSTAMP:20260421T050405Z
URL:https://portal.bixbychamber.com/events/details/2013-december-after-hours-12-05-2013-315
END:VEVENT

END:VCALENDAR
