BEGIN:VCALENDAR
VERSION:2.0
PRODID:-//ChamberMaster//Event Calendar 2.0//EN
METHOD:PUBLISH
X-PUBLISHED-TTL:P3D
REFRESH-INTERVAL:P3D
CALSCALE:GREGORIAN
BEGIN:VEVENT
DTSTART:20130711T213000Z
DTEND:20130712T000000Z
X-MICROSOFT-CDO-ALLDAYEVENT:FALSE
SUMMARY:2013 Dave and Buster's Ribbon Cutting
DESCRIPTION:Hors d'oeuvres\, Prizes (powercards\, dinner for two\, and event discounts)\, Tour of Event Space & Cash Bar.
X-ALT-DESC;FMTTYPE=text/html:Hors d&#39\;oeuvres\, Prizes (powercards\, dinner for two\, and event discounts)\, Tour of Event Space &amp\; Cash Bar.
LOCATION:Dave & Buster's 6812 South 105th East Avenue Tulsa\, OK 74133
UID:e.1611.633
SEQUENCE:3
DTSTAMP:20260421T103327Z
URL:https://portal.bixbychamber.com/events/details/2013-dave-and-buster-s-ribbon-cutting-07-11-2013-633
END:VEVENT

END:VCALENDAR
