BEGIN:VCALENDAR
VERSION:2.0
PRODID:-//ChamberMaster//Event Calendar 2.0//EN
METHOD:PUBLISH
X-PUBLISHED-TTL:P3D
REFRESH-INTERVAL:P3D
CALSCALE:GREGORIAN
BEGIN:VEVENT
DTSTART:20130702T233000Z
DTEND:20130703T003000Z
X-MICROSOFT-CDO-ALLDAYEVENT:FALSE
SUMMARY:2013 Congressman Bridenstine Town Hall Meeting
DESCRIPTION:Congressman Jim Bridenstine (OK-1) will hold two town hall meetings on July 2nd in Tulsa. The focus of the town hall meetings will be to discuss the recent events in Washington with constituents and to respond to questions and concerns.
X-ALT-DESC;FMTTYPE=text/html:<span style="font-size:12px\;"><span style="font-family:arial\;">Congressman Jim Bridenstine (OK-1) will hold two town hall meetings on July 2<sup>nd</sup> in Tulsa.&nbsp\;The focus of the town hall meetings will be to discuss the recent events in Washington with constituents and to respond to questions and concerns.</span></span>
LOCATION:Cityplex Towers Auditorium 2448 East 81st Street Tulsa\, OK 74171
UID:e.1611.658
SEQUENCE:3
DTSTAMP:20260421T103745Z
URL:https://portal.bixbychamber.com/events/details/2013-congressman-bridenstine-town-hall-meeting-07-02-2013-658
END:VEVENT

END:VCALENDAR
