BEGIN:VCALENDAR
VERSION:2.0
PRODID:-//ChamberMaster//Event Calendar 2.0//EN
METHOD:PUBLISH
X-PUBLISHED-TTL:P3D
REFRESH-INTERVAL:P3D
CALSCALE:GREGORIAN
BEGIN:VEVENT
DTSTART:20130702T163000Z
DTEND:20130702T173000Z
X-MICROSOFT-CDO-ALLDAYEVENT:FALSE
SUMMARY:2013 Congressman Bridenstine Town Hall Meeting
DESCRIPTION:Congressman Jim Bridenstine (OK-1) will hold two town hall meetings on July 2nd in Tulsa. The focus of the town hall meetings will be to discuss the recent events in Washington with constituents and to respond to questions and concerns.
X-ALT-DESC;FMTTYPE=text/html:<span style="font-size:12px\;"><span style="font-family:arial\;">Congressman Jim Bridenstine (OK-1) will hold two town hall meetings on July 2<sup>nd</sup> in Tulsa.&nbsp\;The focus of the town hall meetings will be to discuss the recent events in Washington with constituents and to respond to questions and concerns.</span></span>
LOCATION:OSU Tulsa Auditorium 700 North Greenwood Avenue Tulsa\, OK 74106
UID:e.1611.657
SEQUENCE:3
DTSTAMP:20260421T103633Z
URL:https://portal.bixbychamber.com/events/details/2013-congressman-bridenstine-town-hall-meeting-07-02-2013-657
END:VEVENT

END:VCALENDAR
